BEGIN:VCALENDAR
VERSION:2.0
PRODID:-//Cayman Islands Society for HR Professionals - ECPv6.15.20//NONSGML v1.0//EN
CALSCALE:GREGORIAN
METHOD:PUBLISH
X-ORIGINAL-URL:https://cishrp.ky
X-WR-CALDESC:Events for Cayman Islands Society for HR Professionals
REFRESH-INTERVAL;VALUE=DURATION:PT1H
X-Robots-Tag:noindex
X-PUBLISHED-TTL:PT1H
BEGIN:VTIMEZONE
TZID:America/Cayman
BEGIN:STANDARD
TZOFFSETFROM:-0500
TZOFFSETTO:-0500
TZNAME:EST
DTSTART:20250101T000000
END:STANDARD
END:VTIMEZONE
BEGIN:VEVENT
DTSTART;VALUE=DATE:20260529
DTEND;VALUE=DATE:20260530
DTSTAMP:20260423T134448
CREATED:20260304T162029Z
LAST-MODIFIED:20260313T190850Z
UID:9608-1780012800-1780099199@cishrp.ky
SUMMARY:CISHRP Annual Conference 2026
DESCRIPTION:[vc_row][vc_column width=”1/2″][vc_column_text css=””]CISHRP Annual Conference theme for 2026 is \nWork Reimagined: Designing organisations for a changing world \n29th May 2026\nHotel Indigo\, Grand Cayman[/vc_column_text][vc_btn title=”Sponsorship Opportunities” style=”flat” shape=”square” css=”” link=”url:https%3A%2F%2Fcishrp.ky%2Fwp-content%2Fuploads%2F2026%2F03%2FWork-Reimagined_CISHRP-2026-Annual-Conference_Sponsorship-Deck.pdf”][vc_btn title=”Registration Form” style=”flat” shape=”square” color=”primary” css=”” link=”url:https%3A%2F%2Fforms.office.com%2Fpages%2Fresponsepage.aspx%3Fid%3DvoqzflbTA0uwQbk0srSWtpLROl8j_eBCjC5ATRZxbIxUM0g2REdTRTUxOFUyTlVFUVpaTUFSMkdKNy4u%26origin%3DlprLink%26route%3Dshorturl|target:_blank”][/vc_column][vc_column width=”1/2″][vc_single_image image=”9616″ img_size=”large” css=””][/vc_column][/vc_row]
URL:https://cishrp.ky/event/cishrp-annual-conference-2026/
LOCATION:Hotel Indigo\, 32 Seafire Way\, Seven Mile Beach\, Grand Cayman\, KY1-1301\, Cayman Islands
CATEGORIES:Conference
ATTACH;FMTTYPE=image/webp:https://cishrp.ky/wp-content/uploads/2026/03/CISHRP-Conference-2026-Registration-Open.webp
ORGANIZER;CN="CISHRP":MAILTO:info@cishrp.ky
END:VEVENT
END:VCALENDAR